BEGIN:VCALENDAR
VERSION:2.0
PRODID:-//Podium10 - ECPv6.15.20//NONSGML v1.0//EN
CALSCALE:GREGORIAN
METHOD:PUBLISH
X-ORIGINAL-URL:https://www.podium10.nl
X-WR-CALDESC:Evenementen voor Podium10
REFRESH-INTERVAL;VALUE=DURATION:PT1H
X-Robots-Tag:noindex
X-PUBLISHED-TTL:PT1H
BEGIN:VTIMEZONE
TZID:Europe/Amsterdam
BEGIN:DAYLIGHT
TZOFFSETFROM:+0100
TZOFFSETTO:+0200
TZNAME:CEST
DTSTART:20220327T010000
END:DAYLIGHT
BEGIN:STANDARD
TZOFFSETFROM:+0200
TZOFFSETTO:+0100
TZNAME:CET
DTSTART:20221030T010000
END:STANDARD
BEGIN:DAYLIGHT
TZOFFSETFROM:+0100
TZOFFSETTO:+0200
TZNAME:CEST
DTSTART:20230326T010000
END:DAYLIGHT
BEGIN:STANDARD
TZOFFSETFROM:+0200
TZOFFSETTO:+0100
TZNAME:CET
DTSTART:20231029T010000
END:STANDARD
BEGIN:DAYLIGHT
TZOFFSETFROM:+0100
TZOFFSETTO:+0200
TZNAME:CEST
DTSTART:20240331T010000
END:DAYLIGHT
BEGIN:STANDARD
TZOFFSETFROM:+0200
TZOFFSETTO:+0100
TZNAME:CET
DTSTART:20241027T010000
END:STANDARD
END:VTIMEZONE
BEGIN:VEVENT
DTSTART;TZID=Europe/Amsterdam:20230916T193000
DTEND;TZID=Europe/Amsterdam:20230916T235900
DTSTAMP:20260422T002005
CREATED:20230725T195009Z
LAST-MODIFIED:20250717T162124Z
UID:1036-1694892600-1694908740@www.podium10.nl
SUMMARY:Ortencio Muanza Meets Unity Rockers Soundsystem (Reggae Selector Night)
DESCRIPTION:Zaterdag 16 september 2023\n Deuren open: 19u30\n📍Podium10 – Biezeveld 10\, 5531BX Bladel\n Entree € 8\,00 per persoon (podium10.nl/tickets)\n Ortencio Muanza\, Rootsman Syd & Ras Detlev\n  \nOrtencio Muanza Meets Unity Rockers Soundsystem \nOp 16 september is Podium10 dé plek voor een onvergetelijke Reggae-experience! Ortencio Muanza en Unity Rockers Soundsystem zorgen 4 uur lang voor de puurste Reggae sounds ondersteund door het indrukwekkende Bonk Liberty Power Soundsystem! Voel de hypnotiserende klanken\, geniet samen en ontspan met een big splif terwijl jij jezelf laat meeslepen door de verhalen en power van beide selectors! Maar dat is nog niet alles! Naast de Reggae sounds kan je ook genieten van heerlijke Jamaicaanse en Afrikaanse gerechten! Om de ervaring compleet te maken zal de zaal volledig worden omgetoverd tot een echte ‘Rasta Palace’ waardoor je naast muziek ook volledig wordt meegevoerd in de kracht van Rastafari! Ben jij ready voor dé Reggae Experience in Podium10? Wij hopen jullie graag te zien! Give Thanks & Praises 💚💛❤️ Kaarten zijn te koop op www.podium10.nl/tickets voor slechts €8 euro! \n  \n 
URL:https://www.podium10.nl/event/ortencio-muanza-meets-unity-rockers-soundsystem-reggae-selector-night/
LOCATION:Podium10\, Biezeveld 10\, Bladel\, 5531BX
CATEGORIES:Reggae
ATTACH;FMTTYPE=image/png:https://www.podium10.nl/wp-content/uploads/2023/07/POSTER-reggae-16092023-min-1.png
ORGANIZER;CN="Podium10":MAILTO:info@podium10.nl
END:VEVENT
END:VCALENDAR