BEGIN:VCALENDAR
VERSION:2.0
PRODID:-//Podium10 - ECPv6.15.20//NONSGML v1.0//EN
CALSCALE:GREGORIAN
METHOD:PUBLISH
X-ORIGINAL-URL:https://www.podium10.nl
X-WR-CALDESC:Evenementen voor Podium10
REFRESH-INTERVAL;VALUE=DURATION:PT1H
X-Robots-Tag:noindex
X-PUBLISHED-TTL:PT1H
BEGIN:VTIMEZONE
TZID:Europe/Amsterdam
BEGIN:DAYLIGHT
TZOFFSETFROM:+0100
TZOFFSETTO:+0200
TZNAME:CEST
DTSTART:20220327T010000
END:DAYLIGHT
BEGIN:STANDARD
TZOFFSETFROM:+0200
TZOFFSETTO:+0100
TZNAME:CET
DTSTART:20221030T010000
END:STANDARD
BEGIN:DAYLIGHT
TZOFFSETFROM:+0100
TZOFFSETTO:+0200
TZNAME:CEST
DTSTART:20230326T010000
END:DAYLIGHT
BEGIN:STANDARD
TZOFFSETFROM:+0200
TZOFFSETTO:+0100
TZNAME:CET
DTSTART:20231029T010000
END:STANDARD
BEGIN:DAYLIGHT
TZOFFSETFROM:+0100
TZOFFSETTO:+0200
TZNAME:CEST
DTSTART:20240331T010000
END:DAYLIGHT
BEGIN:STANDARD
TZOFFSETFROM:+0200
TZOFFSETTO:+0100
TZNAME:CET
DTSTART:20241027T010000
END:STANDARD
BEGIN:DAYLIGHT
TZOFFSETFROM:+0100
TZOFFSETTO:+0200
TZNAME:CEST
DTSTART:20250330T010000
END:DAYLIGHT
BEGIN:STANDARD
TZOFFSETFROM:+0200
TZOFFSETTO:+0100
TZNAME:CET
DTSTART:20251026T010000
END:STANDARD
END:VTIMEZONE
BEGIN:VEVENT
DTSTART;TZID=Europe/Amsterdam:20240406T200000
DTEND;TZID=Europe/Amsterdam:20240407T020000
DTSTAMP:20260421T205255
CREATED:20240130T200756Z
LAST-MODIFIED:20250717T161821Z
UID:1287-1712433600-1712455200@www.podium10.nl
SUMMARY:Dance Classics - 80's Disco 2024
DESCRIPTION:Zaterdag 6 april 2024\n Deuren open: 20u00\n📍Podium10 – Biezeveld 10\, 5531BX Bladel\n Entree € 10\,00 per persoon (podium10.nl/tickets)\n Back2Eldorado DJ-team: DJ Jan Maas & Lau Daniels\n💃🏼Met verlichte dansvloer\n  \n\nStap terug in de tijd en herbeleef de glorie van de jaren 80 met onze onvergetelijke Dance Classics avond! Een avond vol spetterende disco vibes en opwindende beats die je terugvoeren naar de gouden era van de dansmuziek. Op het podium hebben we niet één\, maar twee DJ’s uit die tijd die je zullen betoveren met hun unieke mixen en ongeëvenaarde energie. Deze DJ’s hebben de dansvloeren van destijds laten bruisen en zijn nog steeds meesters in het creëren van een onvergetelijke sfeer. \nLaat je verleiden door de disco ritmes en laat je meevoeren op de golven van tijdloze hits uit de Disco jaren 80. Van de funky basslines tot de opzwepende synths\, elk nummer zal je hart sneller doen kloppen en je voeten laten bewegen. Bereid je voor op een avond vol dans\, plezier en onbezorgde vreugde. \nMaar dat is niet alles! Onze Dance Classics avond is meer dan alleen muziek. Er is een zorgvuldig samengestelde sfeer\, met verblindende lichtshows en een verlichte dansvloer\, die oplicht in alle kleuren van de regenboog. Laat jezelf onderdompelen in de unieke stijl van de jaren 80. Kom samen met gelijkgestemde muziekliefhebbers en dans de hele nacht door op de grootste hits van toen. Onze DJ’s zullen je meenemen op een reis door de tijd\, waarin je herinneringen ophaalt en nieuwe vriendschappen smeedt. Dit wordt een avond waar je nog lang over zult napraten. \nMis deze enige echte Dance Classics ervaring niet\, gepresenteerd door onze twee legendarische DJ’s uit de jaren 80. Koop nu je tickets en maak je klaar om te feesten als nooit tevoren!
URL:https://www.podium10.nl/event/dance-classics-80s-disco-2024/
LOCATION:Podium10\, Biezeveld 10\, Bladel\, 5531BX
CATEGORIES:80's,Dance,Oldies
ATTACH;FMTTYPE=image/png:https://www.podium10.nl/wp-content/uploads/2024/01/dc-apr24-min.png
ORGANIZER;CN="Podium10":MAILTO:info@podium10.nl
END:VEVENT
BEGIN:VEVENT
DTSTART;TZID=Europe/Amsterdam:20231028T200000
DTEND;TZID=Europe/Amsterdam:20231029T020000
DTSTAMP:20260421T205255
CREATED:20230725T200417Z
LAST-MODIFIED:20250717T162042Z
UID:1043-1698523200-1698544800@www.podium10.nl
SUMMARY:Dance Classics - 80's Disco
DESCRIPTION:Zaterdag 28 oktober 2023\n Deuren open: 20u00\n📍Podium10 – Biezeveld 10\, 5531BX Bladel\n Entree € 10\,00 per persoon (podium10.nl/tickets)\n Back2Eldorado DJ-team: DJ Jan Maas & Lau Daniels\n💃🏼Met verlichte dansvloer\n  \n\nStap terug in de tijd en herbeleef de glorie van de jaren 80 met onze onvergetelijke Dance Classics avond! Een avond vol spetterende disco vibes en opwindende beats die je terugvoeren naar de gouden era van de dansmuziek. Op het podium hebben we niet één\, maar twee DJ’s uit die tijd die je zullen betoveren met hun unieke mixen en ongeëvenaarde energie. Deze DJ’s hebben de dansvloeren van destijds laten bruisen en zijn nog steeds meesters in het creëren van een onvergetelijke sfeer. \nLaat je verleiden door de disco ritmes en laat je meevoeren op de golven van tijdloze hits uit de Disco jaren 80. Van de funky basslines tot de opzwepende synths\, elk nummer zal je hart sneller doen kloppen en je voeten laten bewegen. Bereid je voor op een avond vol dans\, plezier en onbezorgde vreugde. \nMaar dat is niet alles! Onze Dance Classics avond is meer dan alleen muziek. Er is een zorgvuldig samengestelde sfeer\, met verblindende lichtshows en een verlichte dansvloer\, die oplicht in alle kleuren van de regenboog. Laat jezelf onderdompelen in de unieke stijl van de jaren 80. Kom samen met gelijkgestemde muziekliefhebbers en dans de hele nacht door op de grootste hits van toen. Onze DJ’s zullen je meenemen op een reis door de tijd\, waarin je herinneringen ophaalt en nieuwe vriendschappen smeedt. Dit wordt een avond waar je nog lang over zult napraten. \nMis deze enige echte Dance Classics ervaring niet\, gepresenteerd door onze twee legendarische DJ’s uit de jaren 80. Koop nu je tickets en maak je klaar om te feesten als nooit tevoren!
URL:https://www.podium10.nl/event/dance-classics-80s-disco/
LOCATION:Podium10\, Biezeveld 10\, Bladel\, 5531BX
CATEGORIES:80's,Dance,Oldies
ATTACH;FMTTYPE=image/png:https://www.podium10.nl/wp-content/uploads/2023/07/sm-dc-najaar-2023-poster-min.png
ORGANIZER;CN="Podium10":MAILTO:info@podium10.nl
END:VEVENT
END:VCALENDAR