BEGIN:VCALENDAR
VERSION:2.0
PRODID:-//Podium10 - ECPv6.15.20//NONSGML v1.0//EN
CALSCALE:GREGORIAN
METHOD:PUBLISH
X-WR-CALNAME:Podium10
X-ORIGINAL-URL:https://www.podium10.nl
X-WR-CALDESC:Evenementen voor Podium10
REFRESH-INTERVAL;VALUE=DURATION:PT1H
X-Robots-Tag:noindex
X-PUBLISHED-TTL:PT1H
BEGIN:VTIMEZONE
TZID:Europe/Amsterdam
BEGIN:DAYLIGHT
TZOFFSETFROM:+0100
TZOFFSETTO:+0200
TZNAME:CEST
DTSTART:20230326T010000
END:DAYLIGHT
BEGIN:STANDARD
TZOFFSETFROM:+0200
TZOFFSETTO:+0100
TZNAME:CET
DTSTART:20231029T010000
END:STANDARD
BEGIN:DAYLIGHT
TZOFFSETFROM:+0100
TZOFFSETTO:+0200
TZNAME:CEST
DTSTART:20240331T010000
END:DAYLIGHT
BEGIN:STANDARD
TZOFFSETFROM:+0200
TZOFFSETTO:+0100
TZNAME:CET
DTSTART:20241027T010000
END:STANDARD
BEGIN:DAYLIGHT
TZOFFSETFROM:+0100
TZOFFSETTO:+0200
TZNAME:CEST
DTSTART:20250330T010000
END:DAYLIGHT
BEGIN:STANDARD
TZOFFSETFROM:+0200
TZOFFSETTO:+0100
TZNAME:CET
DTSTART:20251026T010000
END:STANDARD
END:VTIMEZONE
BEGIN:VEVENT
DTSTART;TZID=Europe/Amsterdam:20240120T200000
DTEND;TZID=Europe/Amsterdam:20240121T020000
DTSTAMP:20260422T024008
CREATED:20231115T202606Z
LAST-MODIFIED:20250717T161901Z
UID:1262-1705780800-1705802400@www.podium10.nl
SUMMARY:OPPSESSIE
DESCRIPTION:Zaterdag 20 janauri 2024\n Deuren open: 20u00\nPodium10 – Biezeveld 10\, 5531BX Bladel\n Voorverkoop: € 7\,50 Ticketlink: https://shop.eventix.io/8f065cb0-6d10-11ee-9fc1-6a57c78572ab/tickets\n Unba1anced\, Madstew & Tyr \nOppsessie is een hardtechno event gestart door 2 ijverige hardtechno fanaten die vonden dat er niet genoeg werd omgekeken naar de kleinere gemeenschappen in Nederland. In samenwerking met verschillende gemeenten rondom Nederland proberen zij ervoor te zorgen dat jongeren zich niet achtergelaten voelen in hun eigen dorp. Oppsessie is ook een van de enige hardtechno-events die een 16+ entree beleid hanteert\, om ervoor te zorgen dat zoveel mogelijk jongeren mee kunnen genieten. \n  \nBiografie Unba1anced:\nAls een nieuw gezicht in de techno scene\, probeert Unba1anced zijn plekje in de hardtechno te vinden door zijn unieke blik op hardtechno te delen met zijn fans. Met idolen als Doruksen\, Jacidorex en Luca Maier weet hij de creativiteit van techno te ontdekken zonder te vergeten waar hardtechno om draait. \n  \nBiografie Madstew: \nFrom a very young age\, I developed my passion for music. It started with listening to music in the car on my old iPod\, partying with friends\, and being around other people. I actually started dj’ing because a friend who had just started introduced me to the world of dj’ing and I fell in love immediately. Fast forward to now making music has become like writing a diary. It’s the place where I put in my passion and emotions\, the highs and the lows.
URL:https://www.podium10.nl/event/oppsessie/
LOCATION:Podium10\, Biezeveld 10\, Bladel\, 5531BX
CATEGORIES:Hard Techno,Techno
ATTACH;FMTTYPE=image/png:https://www.podium10.nl/wp-content/uploads/2023/11/kader-oppsessie.png
ORGANIZER;CN="Podium10":MAILTO:info@podium10.nl
END:VEVENT
END:VCALENDAR