BEGIN:VCALENDAR
VERSION:2.0
PRODID:-//Podium10 - ECPv6.15.20//NONSGML v1.0//EN
CALSCALE:GREGORIAN
METHOD:PUBLISH
X-ORIGINAL-URL:https://www.podium10.nl
X-WR-CALDESC:Evenementen voor Podium10
REFRESH-INTERVAL;VALUE=DURATION:PT1H
X-Robots-Tag:noindex
X-PUBLISHED-TTL:PT1H
BEGIN:VTIMEZONE
TZID:Europe/Amsterdam
BEGIN:DAYLIGHT
TZOFFSETFROM:+0100
TZOFFSETTO:+0200
TZNAME:CEST
DTSTART:20240331T010000
END:DAYLIGHT
BEGIN:STANDARD
TZOFFSETFROM:+0200
TZOFFSETTO:+0100
TZNAME:CET
DTSTART:20241027T010000
END:STANDARD
BEGIN:DAYLIGHT
TZOFFSETFROM:+0100
TZOFFSETTO:+0200
TZNAME:CEST
DTSTART:20250330T010000
END:DAYLIGHT
BEGIN:STANDARD
TZOFFSETFROM:+0200
TZOFFSETTO:+0100
TZNAME:CET
DTSTART:20251026T010000
END:STANDARD
BEGIN:DAYLIGHT
TZOFFSETFROM:+0100
TZOFFSETTO:+0200
TZNAME:CEST
DTSTART:20260329T010000
END:DAYLIGHT
BEGIN:STANDARD
TZOFFSETFROM:+0200
TZOFFSETTO:+0100
TZNAME:CET
DTSTART:20261025T010000
END:STANDARD
END:VTIMEZONE
BEGIN:VEVENT
DTSTART;TZID=Europe/Amsterdam:20251003T193000
DTEND;TZID=Europe/Amsterdam:20251004T020000
DTSTAMP:20260421T115613
CREATED:20250716T103723Z
LAST-MODIFIED:20250907T104139Z
UID:1672-1759519800-1759543200@www.podium10.nl
SUMMARY:Toen & Nu: Kempisch Muziekpodium 2025
DESCRIPTION:🔥 Muziek van Toen. Vibes van Nu. Eén avond vol Kempische klasse! 🔥 \nWe zijn terug! En hoe. Of je nu warm wordt van legendarische klanken uit het verleden\, of juist los wilt gaan op de frisse energie van opkomend talent – Toen & Nu brengt alles samen onder één dak. Twee podia. Eén avond. Vol herinneringen én nieuwe ontdekkingen. \n🎸 Legendarische bands van vroeger\n🥁 Nieuwe bands van nu\n🕺 Dansen\, lachen\, bijpraten én genieten\n💬 Het volume? Precies goed – voor zowel feest als gesprek! \nOf je nu komt voor de muziek\, de sfeer of gewoon om samen te zijn – deze avond is voor iedereen die het Kempisch muzikale hart een warm gevoel wil geven. \n💛 Muziek met een missie\nToen & Nu is meer dan een avond vol livemuziek. Het is een podium met een doel. De opbrengst van dit evenement gaat naar muziekonderwijs in de Kempen – voor kinderen met talent\, maar zonder toegang tot muzieklessen of instrumenten. Dankzij de samenwerking tussen Podium10\, Stichting Leergeld De Kempen en gemeente Bladel\, krijgen zij alsnog die kans. Omdat muziek voor iedereen toegankelijk hoort te zijn. \n🎵 Meer dan alleen muziek\nMuziek verbindt ons op manieren die woorden vaak niet kunnen vangen. Soms begint het stil\, bijna onmerkbaar\, als een ademhaling in de ruimte. Dan klinkt het eerste akkoord\, een zachte beat die langzaam aanzwelt. Plotseling ben je niet meer alleen; je kijkt om je heen en merkt dat iemand met je mee speelt. Samen luister je\, speel je\, groei je. \nBij Podium10 voelen we die kracht elke dag. Muziek is onze gezamenlijke taal\, die generaties en stijlen overstijgt. Zoals John Miles zong: “Music was my first love and it will be my last.” Elke noot draagt bij aan iets groters\, één broeinest voor muziek! – een plek waar talent kan bloeien\, creativiteit kan stromen en waar elke snaar en drumslag mensen verbindt. \nTijdens Toen & Nu komt die verbinding helemaal tot leven. Het wordt een avond vol verrassingen\, met momenten die je raken en samenbrengen. Want muziek is meer dan geluid – het is een ervaring die ons samenbrengt en inspireert. \n🎤 Wie je kunt verwachten\nEen heerlijke mix van lokaal talent en gevestigde namen. Met optredens van Birgit Bolte\, Dexter Saint Jock\, Drop The Needle\, Gazzerop\, Heroes (David Bowie Tribute)\, Pentagogo\, Stiff Fingers\, Taksie\, Willton\, ZieDaGeWegBand. \nTussendoor zorgen de DJ’s van Roslo Radio voor verrassende muzikale overgangen\, herkenbare beats en de juiste sfeer op elk moment van de avond. \n📅 Zorg dat je erbij bent!\n🎟️ Tickets kosten €6\,- en zijn verkrijgbaar via podium10.nl/tickets\n🕓 Verkoop start vrijdag 18 juli 2025 om 10:00 uur\n📆 Vrijdag 3 oktober 2025\n🚪 Deuren openen om 19:00 uur \nLaat je verrassen\, meevoeren en verbinden – met muziek van toen\, de energie van nu\, en de toekomst van straks. \n  \nMede mogelijk gemaakt door:\nGemeente Bladel | Stichting Leergeld De Kempen | Podium10 | MFA ‘Hart van Hapert’
URL:https://www.podium10.nl/event/toen-nu-kempisch-muziekpodium-2025/
LOCATION:MFA ‘Hart van Hapert’\, Oude Provincialeweg 21\, Hapert\, 5527 BM\, Nederland
CATEGORIES:00's,10's,20's,60's,70's,80's,90's,Kempisch Muziekpodium
ATTACH;FMTTYPE=image/png:https://www.podium10.nl/wp-content/uploads/2025/07/TN2025-Agenda-WebsiteV2-min.png
ORGANIZER;CN="Podium10":MAILTO:info@podium10.nl
END:VEVENT
END:VCALENDAR